Package: methylPipe Version: 1.36.0 Command: /home/biocbuild/R/R-4.3.1/bin/R CMD INSTALL methylPipe StartedAt: 2023-11-01 20:39:14 -0000 (Wed, 01 Nov 2023) EndedAt: 2023-11-01 20:40:29 -0000 (Wed, 01 Nov 2023) EllapsedTime: 75.2 seconds RetCode: 0 Status: OK