Package: methylMnM Version: 1.40.0 Command: chmod a+r methylMnM -R && F:\biocbuild\bbs-3.18-bioc\R\bin\R.exe CMD build --keep-empty-dirs --no-resave-data methylMnM StartedAt: 2024-04-15 19:29:29 -0400 (Mon, 15 Apr 2024) EndedAt: 2024-04-15 19:30:48 -0400 (Mon, 15 Apr 2024) EllapsedTime: 78.9 seconds RetCode: 0 Status: OK PackageFile: methylMnM_1.40.0.tar.gz PackageFileSize: 8.411 MiB