Package: methylMnM Version: 1.40.0 Command: /Library/Frameworks/R.framework/Resources/bin/R CMD INSTALL methylMnM StartedAt: 2024-04-15 15:13:09 -0400 (Mon, 15 Apr 2024) EndedAt: 2024-04-15 15:13:29 -0400 (Mon, 15 Apr 2024) EllapsedTime: 20.2 seconds RetCode: 0 Status: OK