Package: methylMnM Version: 1.40.0 Command: /home/biocbuild/R/R-4.3.1/bin/R CMD build --keep-empty-dirs --no-resave-data methylMnM StartedAt: 2023-11-02 03:23:58 -0000 (Thu, 02 Nov 2023) EndedAt: 2023-11-02 03:25:48 -0000 (Thu, 02 Nov 2023) EllapsedTime: 109.1 seconds RetCode: 0 Status: OK PackageFile: methylMnM_1.40.0.tar.gz PackageFileSize: 8.501 MiB