Package: methylInheritance Version: 1.26.0 Command: /home/biocbuild/bbs-3.18-bioc/R/bin/R CMD check --install=check:methylInheritance.install-out.txt --library=/home/biocbuild/bbs-3.18-bioc/R/site-library --timings methylInheritance_1.26.0.tar.gz StartedAt: 2024-04-16 00:44:29 -0400 (Tue, 16 Apr 2024) EndedAt: 2024-04-16 00:54:26 -0400 (Tue, 16 Apr 2024) EllapsedTime: 597.1 seconds RetCode: 0 Status: OK CheckDir: methylInheritance.Rcheck Warnings: 0