Package: methylInheritance Version: 1.26.0 Command: /home/biocbuild/bbs-3.18-bioc/R/bin/R CMD build --keep-empty-dirs --no-resave-data methylInheritance StartedAt: 2024-04-15 17:53:37 -0400 (Mon, 15 Apr 2024) EndedAt: 2024-04-15 17:54:52 -0400 (Mon, 15 Apr 2024) EllapsedTime: 74.9 seconds RetCode: 0 Status: OK PackageFile: methylInheritance_1.26.0.tar.gz PackageFileSize: 1.695 MiB