Package: methylInheritance Version: 1.26.0 Command: /home/biocbuild/R/R-4.3.1/bin/R CMD build --keep-empty-dirs --no-resave-data methylInheritance StartedAt: 2023-11-02 03:21:42 -0000 (Thu, 02 Nov 2023) EndedAt: 2023-11-02 03:23:23 -0000 (Thu, 02 Nov 2023) EllapsedTime: 101.1 seconds RetCode: 0 Status: OK PackageFile: methylInheritance_1.26.0.tar.gz PackageFileSize: 1.725 MiB