Package: methylGSA Version: 1.20.0 Command: rm -rf methylGSA.buildbin-libdir && mkdir methylGSA.buildbin-libdir && /Users/biocbuild/BBS/utils/build-universal.sh methylGSA_1.20.0.tar.gz /Library/Frameworks/R.framework/Resources/bin/R methylGSA.buildbin-libdir StartedAt: 2024-03-04 00:50:05 -0500 (Mon, 04 Mar 2024) EndedAt: 2024-03-04 00:51:19 -0500 (Mon, 04 Mar 2024) EllapsedTime: 74.3 seconds RetCode: 0 Status: OK PackageFile: methylGSA_1.20.0.tgz PackageFileSize: 3.183 MiB