Package: methylGSA Version: 1.20.0 Command: /home/biocbuild/R/R-4.3.1/bin/R CMD check --install=check:methylGSA.install-out.txt --library=/home/biocbuild/R/R-4.3.1/site-library --no-vignettes --timings methylGSA_1.20.0.tar.gz StartedAt: 2023-11-02 12:02:25 -0000 (Thu, 02 Nov 2023) EndedAt: 2023-11-02 12:16:25 -0000 (Thu, 02 Nov 2023) EllapsedTime: 840.3 seconds RetCode: 1 Status: ERROR CheckDir: methylGSA.Rcheck Warnings: NA