Package: methylCC Version: 1.16.0 Command: rm -rf methylCC.buildbin-libdir && mkdir methylCC.buildbin-libdir && /Users/biocbuild/BBS/utils/build-universal.sh methylCC_1.16.0.tar.gz /Library/Frameworks/R.framework/Resources/bin/R methylCC.buildbin-libdir StartedAt: 2024-04-16 12:10:52 -0400 (Tue, 16 Apr 2024) EndedAt: 2024-04-16 12:12:53 -0400 (Tue, 16 Apr 2024) EllapsedTime: 121.3 seconds RetCode: 0 Status: OK PackageFile: methylCC_1.16.0.tgz PackageFileSize: 4.72 MiB