Package: methylCC Version: 1.16.0 Command: /Library/Frameworks/R.framework/Resources/bin/R CMD INSTALL methylCC StartedAt: 2024-03-03 15:42:50 -0500 (Sun, 03 Mar 2024) EndedAt: 2024-03-03 15:44:01 -0500 (Sun, 03 Mar 2024) EllapsedTime: 71.1 seconds RetCode: 0 Status: OK