Package: methrix Version: 1.16.0 Command: /home/biocbuild/bbs-3.18-bioc/R/bin/R CMD check --install=check:methrix.install-out.txt --library=/home/biocbuild/bbs-3.18-bioc/R/site-library --timings methrix_1.16.0.tar.gz StartedAt: 2024-04-16 00:42:13 -0400 (Tue, 16 Apr 2024) EndedAt: 2024-04-16 00:53:31 -0400 (Tue, 16 Apr 2024) EllapsedTime: 678.5 seconds RetCode: 0 Status: OK CheckDir: methrix.Rcheck Warnings: 0