Package: methrix Version: 1.16.0 Command: rm -rf methrix.buildbin-libdir && mkdir methrix.buildbin-libdir && /Users/biocbuild/BBS/utils/build-universal.sh methrix_1.16.0.tar.gz /Library/Frameworks/R.framework/Resources/bin/R methrix.buildbin-libdir StartedAt: 2024-04-16 12:10:48 -0400 (Tue, 16 Apr 2024) EndedAt: 2024-04-16 12:12:26 -0400 (Tue, 16 Apr 2024) EllapsedTime: 97.9 seconds RetCode: 0 Status: OK PackageFile: methrix_1.16.0.tgz PackageFileSize: 3.441 MiB