Package: methrix Version: 1.16.0 Command: /Library/Frameworks/R.framework/Resources/bin/R CMD check --install=check:methrix.install-out.txt --library=/Library/Frameworks/R.framework/Resources/library --no-vignettes --timings methrix_1.16.0.tar.gz StartedAt: 2024-03-03 21:42:22 -0500 (Sun, 03 Mar 2024) EndedAt: 2024-03-03 21:48:28 -0500 (Sun, 03 Mar 2024) EllapsedTime: 366.0 seconds RetCode: 0 Status: OK CheckDir: methrix.Rcheck Warnings: 0