Package: methimpute Version: 1.24.0 Command: rm -rf methimpute.buildbin-libdir && mkdir methimpute.buildbin-libdir && /Users/biocbuild/BBS/utils/build-universal.sh methimpute_1.24.0.tar.gz /Library/Frameworks/R.framework/Resources/bin/R methimpute.buildbin-libdir StartedAt: 2024-03-04 00:49:54 -0500 (Mon, 04 Mar 2024) EndedAt: 2024-03-04 00:50:56 -0500 (Mon, 04 Mar 2024) EllapsedTime: 61.9 seconds RetCode: 0 Status: OK PackageFile: methimpute_1.24.0.tgz PackageFileSize: 1.521 MiB