git_url: https://git.bioconductor.org/packages/metavizr git_branch: devel git_last_commit: 752b55c git_last_commit_date: 2023-03-30 12:44:06 -0400 (Thu, 30 Mar 2023) Package: metavizr Version: 1.23.1 Maintainer: Hector Corrada Bravo MaintainerEmail: hcorrada at gmail.com