Package: metaseqR2 Version: 1.14.0 Command: rm -rf metaseqR2.buildbin-libdir && mkdir metaseqR2.buildbin-libdir && /Users/biocbuild/BBS/utils/build-universal.sh metaseqR2_1.14.0.tar.gz /Library/Frameworks/R.framework/Resources/bin/R metaseqR2.buildbin-libdir StartedAt: 2024-03-04 00:49:53 -0500 (Mon, 04 Mar 2024) EndedAt: 2024-03-04 00:51:41 -0500 (Mon, 04 Mar 2024) EllapsedTime: 107.4 seconds RetCode: 0 Status: OK PackageFile: metaseqR2_1.14.0.tgz PackageFileSize: 4.495 MiB