Package: metapone Version: 1.8.0 Command: /home/biocbuild/R/R-4.3.1/bin/R CMD INSTALL metapone StartedAt: 2023-11-01 20:44:36 -0000 (Wed, 01 Nov 2023) EndedAt: 2023-11-01 20:44:59 -0000 (Wed, 01 Nov 2023) EllapsedTime: 22.6 seconds RetCode: 0 Status: OK