Package: metahdep Version: 1.60.0 Command: F:\biocbuild\bbs-3.18-bioc\R\bin\R.exe CMD INSTALL metahdep StartedAt: 2024-04-15 15:35:29 -0400 (Mon, 15 Apr 2024) EndedAt: 2024-04-15 15:35:48 -0400 (Mon, 15 Apr 2024) EllapsedTime: 18.6 seconds RetCode: 0 Status: OK