Package: metahdep Version: 1.60.0 Command: /home/biocbuild/bbs-3.18-bioc/R/bin/R CMD check --install=check:metahdep.install-out.txt --library=/home/biocbuild/bbs-3.18-bioc/R/site-library --timings metahdep_1.60.0.tar.gz StartedAt: 2024-04-16 00:39:47 -0400 (Tue, 16 Apr 2024) EndedAt: 2024-04-16 00:40:12 -0400 (Tue, 16 Apr 2024) EllapsedTime: 24.6 seconds RetCode: 0 Status: WARNINGS CheckDir: metahdep.Rcheck Warnings: 1