Package: metahdep Version: 1.60.0 Command: /home/biocbuild/R/R-4.3.1/bin/R CMD build --keep-empty-dirs --no-resave-data metahdep StartedAt: 2023-11-02 03:09:37 -0000 (Thu, 02 Nov 2023) EndedAt: 2023-11-02 03:09:45 -0000 (Thu, 02 Nov 2023) EllapsedTime: 8.0 seconds RetCode: 0 Status: OK PackageFile: metahdep_1.60.0.tar.gz PackageFileSize: 542.2 KiB