Package: metabomxtr Version: 1.36.0 Command: rm -rf metabomxtr.buildbin-libdir && mkdir metabomxtr.buildbin-libdir && /Users/biocbuild/BBS/utils/build-universal.sh metabomxtr_1.36.0.tar.gz /Library/Frameworks/R.framework/Resources/bin/R metabomxtr.buildbin-libdir StartedAt: 2024-04-16 12:10:04 -0400 (Tue, 16 Apr 2024) EndedAt: 2024-04-16 12:10:30 -0400 (Tue, 16 Apr 2024) EllapsedTime: 26.3 seconds RetCode: 0 Status: OK PackageFile: metabomxtr_1.36.0.tgz PackageFileSize: 648 KiB