Package: metabomxtr Version: 1.36.0 Command: /Library/Frameworks/R.framework/Resources/bin/R CMD check --install=check:metabomxtr.install-out.txt --library=/Library/Frameworks/R.framework/Resources/library --no-vignettes --timings metabomxtr_1.36.0.tar.gz StartedAt: 2024-03-03 21:40:01 -0500 (Sun, 03 Mar 2024) EndedAt: 2024-03-03 21:41:41 -0500 (Sun, 03 Mar 2024) EllapsedTime: 100.0 seconds RetCode: 0 Status: OK CheckDir: metabomxtr.Rcheck Warnings: 0