Package: metabomxtr Version: 1.36.0 Command: /Library/Frameworks/R.framework/Resources/bin/R CMD build --keep-empty-dirs --no-resave-data metabomxtr StartedAt: 2024-03-03 17:18:00 -0500 (Sun, 03 Mar 2024) EndedAt: 2024-03-03 17:18:40 -0500 (Sun, 03 Mar 2024) EllapsedTime: 39.4 seconds RetCode: 0 Status: OK PackageFile: metabomxtr_1.36.0.tar.gz PackageFileSize: 558.2 KiB