Package: metabinR Version: 1.4.0 Command: chmod a+r metabinR -R && F:\biocbuild\bbs-3.18-bioc\R\bin\R.exe CMD build --keep-empty-dirs --no-resave-data metabinR StartedAt: 2024-04-15 19:25:06 -0400 (Mon, 15 Apr 2024) EndedAt: 2024-04-15 19:26:00 -0400 (Mon, 15 Apr 2024) EllapsedTime: 53.3 seconds RetCode: 0 Status: OK PackageFile: metabinR_1.4.0.tar.gz PackageFileSize: 4.355 MiB