Package: metabinR Version: 1.4.0 Command: /home/biocbuild/bbs-3.18-bioc/R/bin/R CMD build --keep-empty-dirs --no-resave-data metabinR StartedAt: 2024-04-15 17:50:13 -0400 (Mon, 15 Apr 2024) EndedAt: 2024-04-15 17:50:56 -0400 (Mon, 15 Apr 2024) EllapsedTime: 42.5 seconds RetCode: 0 Status: OK PackageFile: metabinR_1.4.0.tar.gz PackageFileSize: 4.372 MiB