Package: metaSeq Version: 1.42.0 Command: /Library/Frameworks/R.framework/Resources/bin/R CMD INSTALL metaSeq StartedAt: 2024-04-15 15:05:41 -0400 (Mon, 15 Apr 2024) EndedAt: 2024-04-15 15:06:34 -0400 (Mon, 15 Apr 2024) EllapsedTime: 52.4 seconds RetCode: 0 Status: OK