Package: metaCCA Version: 1.30.0 Command: /Library/Frameworks/R.framework/Resources/bin/R CMD INSTALL metaCCA StartedAt: 2024-04-15 16:05:00 -0400 (Mon, 15 Apr 2024) EndedAt: 2024-04-15 16:05:08 -0400 (Mon, 15 Apr 2024) EllapsedTime: 7.6 seconds RetCode: 0 Status: OK