Package: metaCCA Version: 1.30.0 Command: rm -rf metaCCA.buildbin-libdir && mkdir metaCCA.buildbin-libdir && /Users/biocbuild/BBS/utils/build-universal.sh metaCCA_1.30.0.tar.gz /Library/Frameworks/R.framework/Resources/bin/R metaCCA.buildbin-libdir StartedAt: 2024-03-04 00:49:43 -0500 (Mon, 04 Mar 2024) EndedAt: 2024-03-04 00:49:49 -0500 (Mon, 04 Mar 2024) EllapsedTime: 5.8 seconds RetCode: 0 Status: OK PackageFile: metaCCA_1.30.0.tgz PackageFileSize: 969.9 KiB