Package: messina Version: 1.38.0 Command: /home/biocbuild/bbs-3.18-bioc/R/bin/R CMD check --install=check:messina.install-out.txt --library=/home/biocbuild/bbs-3.18-bioc/R/site-library --timings messina_1.38.0.tar.gz StartedAt: 2024-04-16 00:37:11 -0400 (Tue, 16 Apr 2024) EndedAt: 2024-04-16 00:41:11 -0400 (Tue, 16 Apr 2024) EllapsedTime: 240.5 seconds RetCode: 0 Status: OK CheckDir: messina.Rcheck Warnings: 0