Package: meshr Version: 2.8.0 Command: F:\biocbuild\bbs-3.18-bioc\R\bin\R.exe CMD INSTALL meshr StartedAt: 2024-04-15 16:27:41 -0400 (Mon, 15 Apr 2024) EndedAt: 2024-04-15 16:28:15 -0400 (Mon, 15 Apr 2024) EllapsedTime: 33.7 seconds RetCode: 0 Status: OK