Package: meshr Version: 2.8.0 Command: chmod a+r meshr -R && F:\biocbuild\bbs-3.18-bioc\R\bin\R.exe CMD build --keep-empty-dirs --no-resave-data meshr StartedAt: 2024-04-15 19:24:46 -0400 (Mon, 15 Apr 2024) EndedAt: 2024-04-15 19:25:22 -0400 (Mon, 15 Apr 2024) EllapsedTime: 35.8 seconds RetCode: 0 Status: OK PackageFile: meshr_2.8.0.tar.gz PackageFileSize: 1002 KiB