Package: meshr Version: 2.8.0 Command: rm -rf meshr.buildbin-libdir && mkdir meshr.buildbin-libdir && F:\biocbuild\bbs-3.18-bioc\R\bin\R.exe CMD INSTALL --build --library=meshr.buildbin-libdir meshr_2.8.0.tar.gz StartedAt: 2024-04-16 07:15:05 -0400 (Tue, 16 Apr 2024) EndedAt: 2024-04-16 07:15:45 -0400 (Tue, 16 Apr 2024) EllapsedTime: 39.7 seconds RetCode: 0 Status: OK PackageFile: meshr_2.8.0.zip PackageFileSize: 934.5 KiB