Package: meshr Version: 2.8.0 Command: /Library/Frameworks/R.framework/Resources/bin/R CMD INSTALL meshr StartedAt: 2024-04-15 16:14:29 -0400 (Mon, 15 Apr 2024) EndedAt: 2024-04-15 16:15:16 -0400 (Mon, 15 Apr 2024) EllapsedTime: 47.0 seconds RetCode: 0 Status: OK