Package: meshr Version: 2.8.0 Command: /Library/Frameworks/R.framework/Resources/bin/R CMD check --install=check:meshr.install-out.txt --library=/Library/Frameworks/R.framework/Resources/library --no-vignettes --timings meshr_2.8.0.tar.gz StartedAt: 2024-04-16 05:02:18 -0400 (Tue, 16 Apr 2024) EndedAt: 2024-04-16 05:06:58 -0400 (Tue, 16 Apr 2024) EllapsedTime: 280.0 seconds RetCode: 0 Status: OK CheckDir: meshr.Rcheck Warnings: 0