Package: meshr Version: 2.8.0 Command: /Library/Frameworks/R.framework/Resources/bin/R CMD build --keep-empty-dirs --no-resave-data meshr StartedAt: 2024-04-15 19:50:44 -0400 (Mon, 15 Apr 2024) EndedAt: 2024-04-15 19:51:37 -0400 (Mon, 15 Apr 2024) EllapsedTime: 53.7 seconds RetCode: 0 Status: OK PackageFile: meshr_2.8.0.tar.gz PackageFileSize: 1002 KiB