Package: meshr Version: 2.8.0 Command: /Library/Frameworks/R.framework/Resources/bin/R CMD check --install=check:meshr.install-out.txt --library=/Library/Frameworks/R.framework/Resources/library --no-vignettes --timings meshr_2.8.0.tar.gz StartedAt: 2024-03-03 21:38:41 -0500 (Sun, 03 Mar 2024) EndedAt: 2024-03-03 21:41:24 -0500 (Sun, 03 Mar 2024) EllapsedTime: 163.4 seconds RetCode: 0 Status: OK CheckDir: meshr.Rcheck Warnings: 0