Package: meshr Version: 2.8.0 Command: rm -rf meshr.buildbin-libdir && mkdir meshr.buildbin-libdir && /Users/biocbuild/BBS/utils/build-universal.sh meshr_2.8.0.tar.gz /Library/Frameworks/R.framework/Resources/bin/R meshr.buildbin-libdir StartedAt: 2024-03-04 00:49:33 -0500 (Mon, 04 Mar 2024) EndedAt: 2024-03-04 00:50:08 -0500 (Mon, 04 Mar 2024) EllapsedTime: 35.4 seconds RetCode: 0 Status: OK PackageFile: meshr_2.8.0.tgz PackageFileSize: 931.1 KiB