Package: meshr Version: 2.8.0 Command: /home/biocbuild/R/R-4.3.1/bin/R CMD check --install=check:meshr.install-out.txt --library=/home/biocbuild/R/R-4.3.1/site-library --no-vignettes --timings meshr_2.8.0.tar.gz StartedAt: 2023-11-02 11:57:01 -0000 (Thu, 02 Nov 2023) EndedAt: 2023-11-02 12:00:07 -0000 (Thu, 02 Nov 2023) EllapsedTime: 186.1 seconds RetCode: 0 Status: OK CheckDir: meshr.Rcheck Warnings: 0