Package: memes Version: 1.10.0 Command: /Library/Frameworks/R.framework/Resources/bin/R CMD build --keep-empty-dirs --no-resave-data memes StartedAt: 2024-04-15 19:50:18 -0400 (Mon, 15 Apr 2024) EndedAt: 2024-04-15 19:52:36 -0400 (Mon, 15 Apr 2024) EllapsedTime: 138.2 seconds RetCode: 0 Status: OK PackageFile: memes_1.10.0.tar.gz PackageFileSize: 1.117 MiB