Package: mdp Version: 1.22.0 Command: F:\biocbuild\bbs-3.18-bioc\R\bin\R.exe CMD INSTALL mdp StartedAt: 2024-04-15 15:45:39 -0400 (Mon, 15 Apr 2024) EndedAt: 2024-04-15 15:45:46 -0400 (Mon, 15 Apr 2024) EllapsedTime: 6.9 seconds RetCode: 0 Status: OK