Package: mdp Version: 1.22.0 Command: /home/biocbuild/bbs-3.18-bioc/R/bin/R CMD build --keep-empty-dirs --no-resave-data mdp StartedAt: 2024-04-15 17:48:37 -0400 (Mon, 15 Apr 2024) EndedAt: 2024-04-15 17:48:55 -0400 (Mon, 15 Apr 2024) EllapsedTime: 17.9 seconds RetCode: 0 Status: OK PackageFile: mdp_1.22.0.tar.gz PackageFileSize: 4.287 MiB