Package: mdp Version: 1.22.0 Command: /Library/Frameworks/R.framework/Resources/bin/R CMD INSTALL mdp StartedAt: 2024-03-03 15:08:54 -0500 (Sun, 03 Mar 2024) EndedAt: 2024-03-03 15:09:03 -0500 (Sun, 03 Mar 2024) EllapsedTime: 8.5 seconds RetCode: 0 Status: OK