Package: mdp Version: 1.22.0 Command: /Library/Frameworks/R.framework/Resources/bin/R CMD check --install=check:mdp.install-out.txt --library=/Library/Frameworks/R.framework/Resources/library --no-vignettes --timings mdp_1.22.0.tar.gz StartedAt: 2024-03-03 21:36:29 -0500 (Sun, 03 Mar 2024) EndedAt: 2024-03-03 21:37:47 -0500 (Sun, 03 Mar 2024) EllapsedTime: 77.3 seconds RetCode: 0 Status: OK CheckDir: mdp.Rcheck Warnings: 0