Package: mdp Version: 1.22.0 Command: /Library/Frameworks/R.framework/Resources/bin/R CMD build --keep-empty-dirs --no-resave-data mdp StartedAt: 2024-03-03 17:16:33 -0500 (Sun, 03 Mar 2024) EndedAt: 2024-03-03 17:16:58 -0500 (Sun, 03 Mar 2024) EllapsedTime: 24.7 seconds RetCode: 0 Status: OK PackageFile: mdp_1.22.0.tar.gz PackageFileSize: 4.383 MiB