Package: mdp Version: 1.22.0 Command: /home/biocbuild/R/R-4.3.1/bin/R CMD check --install=check:mdp.install-out.txt --library=/home/biocbuild/R/R-4.3.1/site-library --no-vignettes --timings mdp_1.22.0.tar.gz StartedAt: 2023-11-02 11:53:37 -0000 (Thu, 02 Nov 2023) EndedAt: 2023-11-02 11:54:45 -0000 (Thu, 02 Nov 2023) EllapsedTime: 68.2 seconds RetCode: 0 Status: OK CheckDir: mdp.Rcheck Warnings: 0