Package: mbQTL Version: 1.2.0 Command: chmod a+r mbQTL -R && F:\biocbuild\bbs-3.18-bioc\R\bin\R.exe CMD build --keep-empty-dirs --no-resave-data mbQTL StartedAt: 2024-04-15 19:22:35 -0400 (Mon, 15 Apr 2024) EndedAt: 2024-04-15 19:23:57 -0400 (Mon, 15 Apr 2024) EllapsedTime: 82.9 seconds RetCode: 0 Status: OK PackageFile: mbQTL_1.2.0.tar.gz PackageFileSize: 731.5 KiB