Package: mbOmic Version: 1.6.0 Command: F:\biocbuild\bbs-3.18-bioc\R\bin\R.exe CMD check --no-multiarch --install=check:mbOmic.install-out.txt --library=F:\biocbuild\bbs-3.18-bioc\R\library --no-vignettes --timings mbOmic_1.6.0.tar.gz StartedAt: 2024-04-16 02:19:25 -0400 (Tue, 16 Apr 2024) EndedAt: 2024-04-16 02:22:22 -0400 (Tue, 16 Apr 2024) EllapsedTime: 177.4 seconds RetCode: 1 Status: ERROR CheckDir: mbOmic.Rcheck Warnings: NA