Package: mbOmic Version: 1.6.0 Command: chmod a+r mbOmic -R && F:\biocbuild\bbs-3.18-bioc\R\bin\R.exe CMD build --keep-empty-dirs --no-resave-data mbOmic StartedAt: 2024-04-15 19:22:04 -0400 (Mon, 15 Apr 2024) EndedAt: 2024-04-15 19:23:05 -0400 (Mon, 15 Apr 2024) EllapsedTime: 61.4 seconds RetCode: 0 Status: OK PackageFile: mbOmic_1.6.0.tar.gz PackageFileSize: 409.7 KiB