Package: mbOmic Version: 1.6.0 Command: /Library/Frameworks/R.framework/Resources/bin/R CMD INSTALL mbOmic StartedAt: 2024-04-15 16:06:08 -0400 (Mon, 15 Apr 2024) EndedAt: 2024-04-15 16:06:56 -0400 (Mon, 15 Apr 2024) EllapsedTime: 48.0 seconds RetCode: 0 Status: OK